BEGIN:VCALENDAR
VERSION:2.0
PRODID:-//ChamberMaster//Event Calendar 2.0//EN
METHOD:PUBLISH
X-PUBLISHED-TTL:P3D
REFRESH-INTERVAL:P3D
CALSCALE:GREGORIAN
BEGIN:VEVENT
DTSTART:20160821T040000Z
DTEND:20160821T060000Z
X-MICROSOFT-CDO-ALLDAYEVENT:FALSE
SUMMARY:Billy Lund & Whiskey Weekend
DESCRIPTION:Josephine County Fairgounds Midway Stage Billy Lund & Whiskey Weekend have been entertaining audiences throughout the Pacific Northwest since 2010. Featuring the lead vocals of Billy Lund\, 2 time regional Winner of the Texaco Country Show Down. The band showcases current music from artists like Blake Shelton\, Jason Aldean\, Eric Church\, and Thomas Rhett as well as classic country favorites from George Strait\, Merle Haggard\, along with original compositions.
X-ALT-DESC;FMTTYPE=text/html:Josephine County Fairgounds Midway Stage Billy Lund &amp\; Whiskey Weekend have been entertaining audiences throughout the Pacific Northwest since 2010. Featuring the lead vocals of Billy Lund\, 2 time regional Winner of the Texaco Country Show Down. The band showcases current music from artists like Blake Shelton\, Jason Aldean\, Eric Church\, and Thomas Rhett as well as classic country favorites from George Strait\, Merle Haggard\, along with original compositions.
LOCATION:1451 Fairgrounds Road\, Grants Pass\, OR 97527
UID:e.1818.17656
SEQUENCE:3
DTSTAMP:20260425T192022Z
URL:https://business.grantspasschamber.org/events/details/billy-lund-whiskey-weekend-08-20-2016-17656
END:VEVENT

END:VCALENDAR
