BEGIN:VCALENDAR
VERSION:2.0
PRODID:-//ChamberMaster//Event Calendar 2.0//EN
METHOD:PUBLISH
X-PUBLISHED-TTL:P3D
REFRESH-INTERVAL:P3D
CALSCALE:GREGORIAN
BEGIN:VEVENT
DTSTART;VALUE=DATE:20160528
DTEND;VALUE=DATE:20160529
TRANSP:TRANSPARENT
X-MICROSOFT-CDO-ALLDAYEVENT:TRUE
SUMMARY:Birds and Brews
DESCRIPTION:Celebrate spring in the beautiful Illinois Valley in the company of three live bands -- $8 Mountain\, Broadway Phil and the Shouters\, and Tim and Michelle\, while sipping locally crafted microbrews. The day starts with a bird walk led by the Siskiyou Audubon Society.\n\n\n\nThey will also have nest box building kits for the kids. Other children's nature activities includer raptors from Wildlife Images and the Caterpillar learning lab from Pacifica.\n\n\n\nMini nature hikes give close up views of the flora\, fauna and geology of a unique site. Catered food from food trucks and ice cream will also be available. Beer and food priced separately.
X-ALT-DESC;FMTTYPE=text/html:<strong>Celebrate spring in the beautiful Illinois Valley in the company of three live bands -- $8 Mountain\, Broadway Phil and the Shouters\, and Tim and Michelle\, while sipping locally crafted microbrews. The day starts with a bird walk led by the Siskiyou Audubon Society.<br />\n<br />\nThey will also have nest box building kits for the kids. Other children&#39\;s nature activities includer raptors from Wildlife Images and the Caterpillar learning lab from Pacifica.<br />\n<br />\nMini nature hikes give close up views of the flora\, fauna and geology of a unique site. Catered food from food trucks and ice cream will also be available. Beer and food priced separately.&nbsp\;</strong>
LOCATION:Deer Creek Center\, 1241 Illinois River Rd.\, Selma\, OR
UID:e.1818.17479
SEQUENCE:3
DTSTAMP:20260425T235959Z
URL:https://business.grantspasschamber.org/events/details/birds-and-brews-05-28-2016-17479
END:VEVENT

END:VCALENDAR
