BEGIN:VCALENDAR
VERSION:2.0
PRODID:-//ChamberMaster//Event Calendar 2.0//EN
METHOD:PUBLISH
X-PUBLISHED-TTL:P3D
REFRESH-INTERVAL:P3D
CALSCALE:GREGORIAN
BEGIN:VEVENT
DTSTART;VALUE=DATE:20160919
DTEND;VALUE=DATE:20160920
TRANSP:TRANSPARENT
X-MICROSOFT-CDO-ALLDAYEVENT:TRUE
SUMMARY:Blood Drive ~ People's Bank
DESCRIPTION:The need is constant. The gratification is instant. Give Blood.\n\n\n\nAmerican Red Cross\n\nTo schedule your appointment or for more information\, contact American Red Cross at 1-800-RED-CROSS (1-800 - 733-2767)\n\n\n\nor www.redcrossblood.org and use sponsor code:  PeoplesBank
X-ALT-DESC;FMTTYPE=text/html:<span style="font-size:14px\;"><em><strong><u>The need is constant. The gratification is instant. Give Blood</u>.<br />\n<br />\n<u>American Red Cross</u><br />\nTo schedule your appointment or for more information\, contact American Red Cross at 1-800-RED-CROSS (1-800 - 733-2767)<br />\n<br />\nor www.redcrossblood.org and use sponsor code:&nbsp\; <u>PeoplesBank</u></strong></em></span>
LOCATION:People's Bank Upstairs Office Space 509 SE 7th Street Grants Pass
UID:e.1818.17801
SEQUENCE:3
DTSTAMP:20260425T181526Z
URL:https://business.grantspasschamber.org/events/details/blood-drive-people-s-bank-17801
END:VEVENT

END:VCALENDAR
