BEGIN:VCALENDAR
VERSION:2.0
PRODID:-//ChamberMaster//Event Calendar 2.0//EN
METHOD:PUBLISH
X-PUBLISHED-TTL:P3D
REFRESH-INTERVAL:P3D
CALSCALE:GREGORIAN
BEGIN:VEVENT
DTSTART;VALUE=DATE:20160526
DTEND;VALUE=DATE:20160531
TRANSP:TRANSPARENT
X-MICROSOFT-CDO-ALLDAYEVENT:TRUE
SUMMARY:Boatnik ~ 2016 Memorial Day Parade
DESCRIPTION:A Community Festival with a parade\, hydroplane\, drag and sprint boat exhibitions\, water shows\, softball tournaments\, fireworks\, a carnival\, food booths\, and shows.\n\n\n\nSince 1959 The Grants Pass Active Club supporting our youth in our community
X-ALT-DESC;FMTTYPE=text/html:<strong>A Community Festival with a parade\, hydroplane\, drag and sprint boat exhibitions\, water shows\, softball tournaments\, fireworks\, a carnival\, food booths\, and shows.<br />\n<br />\n<u>Since 1959 The Grants Pass Active Club supporting our youth in our community</u></strong>
LOCATION:Riverside Park 111 E Park St Grants Pass
UID:e.1818.15254
SEQUENCE:3
DTSTAMP:20260426T000249Z
URL:https://business.grantspasschamber.org/events/details/boatnik-2016-memorial-day-parade-05-26-2016-15254
END:VEVENT

END:VCALENDAR
