BEGIN:VCALENDAR
VERSION:2.0
PRODID:-//ChamberMaster//Event Calendar 2.0//EN
METHOD:PUBLISH
X-PUBLISHED-TTL:P3D
REFRESH-INTERVAL:P3D
CALSCALE:GREGORIAN
BEGIN:VEVENT
DTSTART:20160528T140000Z
DTEND:20160528T170000Z
X-MICROSOFT-CDO-ALLDAYEVENT:FALSE
SUMMARY:BOATNIK BREAKFAST
DESCRIPTION:Pre-Parade Breakfast on Saturday\, May 28\, at The American Legion Post 28\, 206 NW F St @ 5th St\, for all who want to fill-up before the Boatnik Parade in downtown Grants Pass. American Legion Auxiliary Unit 28 is serving Country Ham and Cheese Scrambled Eggs\, Link Sausage\, Bisquits and Gravy\, and "all you can eat" Pancakes. Coffee\, Tea\, Juice\, or Water is included . Served from 7:00 to 10:00 a.m. $6.00 per person. 541-474-6400 Proceeds benefit the Auxiliary Veteran Service Projects.
X-ALT-DESC;FMTTYPE=text/html:Pre-Parade Breakfast on Saturday\, May 28\, at The American Legion Post 28\, 206 NW F St @ 5th St\, for all who want to fill-up before the Boatnik Parade in downtown Grants Pass. American Legion Auxiliary Unit 28 is serving Country Ham and Cheese Scrambled Eggs\, Link Sausage\, Bisquits and Gravy\, and &quot\;all you can eat&quot\; Pancakes. Coffee\, Tea\, Juice\, or Water is included . Served from 7:00 to 10:00 a.m. $6.00 per person. 541-474-6400 Proceeds benefit the Auxiliary Veteran Service Projects.
LOCATION:206 NW F ST @ 5TH ST
UID:e.1818.17500
SEQUENCE:3
DTSTAMP:20260425T235935Z
URL:https://business.grantspasschamber.org/events/details/boatnik-breakfast-05-28-2016-17500
END:VEVENT

END:VCALENDAR
