BEGIN:VCALENDAR
VERSION:2.0
PRODID:-//ChamberMaster//Event Calendar 2.0//EN
METHOD:PUBLISH
X-PUBLISHED-TTL:P3D
REFRESH-INTERVAL:P3D
CALSCALE:GREGORIAN
BEGIN:VEVENT
DTSTART;VALUE=DATE:20160618
DTEND;VALUE=DATE:20160619
TRANSP:TRANSPARENT
X-MICROSOFT-CDO-ALLDAYEVENT:TRUE
SUMMARY:Bohemian ~ Cool Jazz\, Low LIghts\, Great Food & Friends
DESCRIPTION:Sarah Dion Brooks ~ Jazz originals and a variety of cover songs
X-ALT-DESC;FMTTYPE=text/html:<strong>Sarah Dion Brooks ~ Jazz originals and a variety of cover songs</strong>
LOCATION:The Bohemian Bar & Bistro 233 SW G St (541) 471-7158
UID:e.1818.17602
SEQUENCE:3
DTSTAMP:20260425T224201Z
URL:https://business.grantspasschamber.org/events/details/bohemian-cool-jazz-low-lights-great-food-friends-06-18-2016-17602
END:VEVENT

END:VCALENDAR
