BEGIN:VCALENDAR
VERSION:2.0
PRODID:-//ChamberMaster//Event Calendar 2.0//EN
METHOD:PUBLISH
X-PUBLISHED-TTL:P3D
REFRESH-INTERVAL:P3D
CALSCALE:GREGORIAN
BEGIN:VEVENT
DTSTART:20181211T160000Z
DTEND:20181211T170000Z
X-MICROSOFT-CDO-ALLDAYEVENT:FALSE
SUMMARY:**BR&E Committee
DESCRIPTION:
X-ALT-DESC;FMTTYPE=text/html:
LOCATION:Chamber Office
UID:e.1818.11164
SEQUENCE:3
DTSTAMP:20260424T150120Z
URL:https://business.grantspasschamber.org/events/details/br-e-12-11-2018-11164
END:VEVENT

END:VCALENDAR
