BEGIN:VCALENDAR
VERSION:2.0
PRODID:-//ChamberMaster//Event Calendar 2.0//EN
METHOD:PUBLISH
X-PUBLISHED-TTL:P3D
REFRESH-INTERVAL:P3D
CALSCALE:GREGORIAN
BEGIN:VEVENT
DTSTART:20160519T200000Z
DTEND:20160519T213000Z
X-MICROSOFT-CDO-ALLDAYEVENT:FALSE
SUMMARY:Breast Cancer Support Group
DESCRIPTION:Breast Cancer Support Group
X-ALT-DESC;FMTTYPE=text/html:Breast Cancer Support Group
LOCATION:The Women?s Center First Floor Conference Room 1075 SW Grandview Ave Grants Pass\, OR 97527
UID:e.1818.9465
SEQUENCE:3
DTSTAMP:20260425T235936Z
URL:https://business.grantspasschamber.org/events/details/breast-cancer-support-group-05-19-2016-9465
END:VEVENT

END:VCALENDAR
