BEGIN:VCALENDAR
VERSION:2.0
PRODID:-//ChamberMaster//Event Calendar 2.0//EN
METHOD:PUBLISH
X-PUBLISHED-TTL:P3D
REFRESH-INTERVAL:P3D
CALSCALE:GREGORIAN
BEGIN:VEVENT
DTSTART:20161007T183000Z
DTEND:20161007T200000Z
X-MICROSOFT-CDO-ALLDAYEVENT:FALSE
SUMMARY:BUCKET LIST BUNNIES MONTHLY LUNCH
DESCRIPTION:Come join us for our monthly lunch at Taprock/Evergreen Room!  We are a group of fun women who are 45 years or over. \n\n\n\nOur lunch speaker this month is Jill Hamm from Magnabilities/Personalized Jewelry
X-ALT-DESC;FMTTYPE=text/html:<strong>Come join us for our monthly lunch at Taprock/Evergreen Room!&nbsp\; We are a group of fun women who are 45 years or over.&nbsp\;<br />\n<br />\nOur lunch speaker this month is Jill Hamm from Magnabilities/Personalized Jewelry</strong>
LOCATION:Taprock NW Grill/Evergreen Room 971 SE 6th Street
UID:e.1818.17870
SEQUENCE:3
DTSTAMP:20260425T163420Z
URL:https://business.grantspasschamber.org/events/details/bucket-list-bunnies-monthly-lunch-17870
END:VEVENT

END:VCALENDAR
