BEGIN:VCALENDAR
VERSION:2.0
PRODID:-//ChamberMaster//Event Calendar 2.0//EN
METHOD:PUBLISH
X-PUBLISHED-TTL:P3D
REFRESH-INTERVAL:P3D
CALSCALE:GREGORIAN
BEGIN:VEVENT
DTSTART:20160909T183000Z
DTEND:20160909T200000Z
X-MICROSOFT-CDO-ALLDAYEVENT:FALSE
SUMMARY:Bucket List Bunnies Monthly Luncheon
DESCRIPTION:Bucket List Bunnies is a ladies organization age 50+ that fulfill bucket list wishes\, socialize\, business network\, luncheons\, events\, activities\,\n\nJOIN US!\n\n\n\nAnd learn about this fun organization!\n\n\n\nOur guest speaker will talk about womans self defense.
X-ALT-DESC;FMTTYPE=text/html:<strong>Bucket List Bunnies is a ladies organization age 50+ that fulfill bucket list wishes\, socialize\, business network\, luncheons\, events\, activities\,<br />\nJOIN US!<br />\n<br />\nAnd learn about this fun organization!<br />\n<br />\nOur guest speaker will talk about womans self defense.</strong><br />\n<br />\n<br />\n<br />\n&nbsp\;
LOCATION:Taprock NW Grill\, The Evergreen Room 971 SW 6th Grants Pass\, OR 97526
UID:e.1818.17761
SEQUENCE:3
DTSTAMP:20260425T181925Z
URL:https://business.grantspasschamber.org/events/details/bucket-list-bunnies-monthly-luncheon-09-09-2016-17761
END:VEVENT

END:VCALENDAR
