BEGIN:VCALENDAR
VERSION:2.0
PRODID:-//ChamberMaster//Event Calendar 2.0//EN
METHOD:PUBLISH
X-PUBLISHED-TTL:P3D
REFRESH-INTERVAL:P3D
CALSCALE:GREGORIAN
BEGIN:VEVENT
DTSTART:20250621T230000Z
DTEND:20250622T010000Z
X-MICROSOFT-CDO-ALLDAYEVENT:FALSE
SUMMARY:Build Your Own Body Butter
DESCRIPTION:Unleash your creativity with body butter! Join us for a fun unique experience customizing your very own body butter with Generic Soap Company!\n\n\n\nWhat it includes: -Using one of our exclusive recipes\, customizing your own 4oz butter -Learning piping and multicolored technique -Learning and using key ingredients that make it special
X-ALT-DESC;FMTTYPE=text/html:<span style="font-size:20px\;">Unleash your creativity with body butter! Join us for a fun unique experience customizing your very own body butter with Generic Soap Company!<br />\n<br />\nWhat it includes: -Using one of our exclusive recipes\, customizing your own 4oz butter -Learning piping and multicolored technique -Learning and using key ingredients that make it special</span>
LOCATION:Apothi-Crow 131 SW G St Grants Pass\, OR
UID:e.1818.54835
SEQUENCE:3
DTSTAMP:20260419T115306Z
URL:https://business.grantspasschamber.org/events/details/build-your-own-body-butter-54835
END:VEVENT

END:VCALENDAR
