BEGIN:VCALENDAR
VERSION:2.0
PRODID:-//ChamberMaster//Event Calendar 2.0//EN
METHOD:PUBLISH
X-PUBLISHED-TTL:P3D
REFRESH-INTERVAL:P3D
CALSCALE:GREGORIAN
BEGIN:VEVENT
DTSTART:20160421T153000Z
DTEND:20160421T183000Z
X-MICROSOFT-CDO-ALLDAYEVENT:FALSE
SUMMARY:Building a Service Culture
DESCRIPTION:Service is such a frequently used "customer promise" made by companies\, yet many organizations fall short of delivering on that value promise. Join Claudine as she discusses ways to build a culture of service and embed that culture throughout every customer "touch-point." Included in this discussion are these learner outcomes:\n\n	Service: What is it\, who defines it\, and who defends a culture of service?\n	Service delivery: From Theory to application: Connecting others to service practices\n	Implementing consistency and measurements for sustainable service programs\n	Keeping the service momentum strong for long term impact
X-ALT-DESC;FMTTYPE=text/html:<strong>Service is such a frequently used &quot\;customer promise&quot\; made by companies\, yet many organizations fall short of delivering on that value promise. Join Claudine as she discusses ways to build a culture of service and embed that culture throughout every customer &quot\;touch-point.&quot\; Included in this discussion are these learner outcomes:</strong>\n<ul>\n	<li><strong>Service: What is it\, who defines it\, and who defends a culture of service?</strong></li>\n	<li><strong>Service delivery: From Theory to application: Connecting others to service practices</strong></li>\n	<li><strong>Implementing consistency and measurements for sustainable service programs</strong></li>\n	<li><strong>Keeping the service momentum strong for long term impact</strong></li>\n</ul>\n
LOCATION:Location Change: Work Source Oregon 1569 NE F Street Grants Pass
UID:e.1818.15772
SEQUENCE:3
DTSTAMP:20260426T013412Z
URL:https://business.grantspasschamber.org/events/details/building-a-service-culture-15772
END:VEVENT

END:VCALENDAR
