BEGIN:VCALENDAR
VERSION:2.0
PRODID:-//ChamberMaster//Event Calendar 2.0//EN
METHOD:PUBLISH
X-PUBLISHED-TTL:P3D
REFRESH-INTERVAL:P3D
CALSCALE:GREGORIAN
BEGIN:VEVENT
DTSTART:20200629T170000Z
DTEND:20200629T190000Z
X-MICROSOFT-CDO-ALLDAYEVENT:FALSE
SUMMARY:Building Emotional Intelligence - Live Webinar
DESCRIPTION:Emotional Intelligence  According to some experts 75% of your success is your people skills. Life it turns out is all about relationships and our ability to communicate effectively with others. Emotional Intelligence (EQ) is your ability to recognize and understand emotions in yourself and others\, use this awareness to manage your behavior and your relationships. EQ unlike cognitive intelligence (IQ) can be learned. Learn the four key components of EQ and how to build a plan to increase your own EQ.
X-ALT-DESC;FMTTYPE=text/html:<span style="font-size:16px"><strong><em><u>Emotional Intelligence &nbsp\;</u></em></strong>According to some experts 75% of your success is your people skills. Life it turns out is all about relationships and our ability to communicate effectively with others. Emotional Intelligence (EQ) is your ability to recognize and understand emotions in yourself and others\, use this awareness to manage your behavior and your relationships. EQ unlike cognitive intelligence (IQ) can be learned. Learn the four key components of EQ and how to build a plan to increase your own EQ.&nbsp\;&nbsp\;&nbsp\;</span>
LOCATION:** Live Zoom Webinar **
UID:e.1818.32990
SEQUENCE:3
DTSTAMP:20260424T090345Z
URL:https://business.grantspasschamber.org/events/details/building-emotional-intelligence-live-webinar-32990
END:VEVENT

END:VCALENDAR
