BEGIN:VCALENDAR
VERSION:2.0
PRODID:-//ChamberMaster//Event Calendar 2.0//EN
METHOD:PUBLISH
X-PUBLISHED-TTL:P3D
REFRESH-INTERVAL:P3D
CALSCALE:GREGORIAN
BEGIN:VEVENT
DTSTART;VALUE=DATE:20180119
DTEND;VALUE=DATE:20180120
TRANSP:TRANSPARENT
X-MICROSOFT-CDO-ALLDAYEVENT:TRUE
SUMMARY:Bullshot Crummond ~ Barnstormers Theatre
DESCRIPTION:The dashing Captain Hugh "Bullshot" Crummond - WWI ace fighter pilot\, Olympic athlete\, racing driver\, part-time sleuth and all round spiffing chap - must save the world from the dastardly Count Otto van Bruno\, his wartime adversary.\n\n\n\nAnd\, of course\, win the heart of a jolly nice young lady.
X-ALT-DESC;FMTTYPE=text/html:<br />\n<strong>The dashing Captain Hugh &quot\;Bullshot&quot\; Crummond - WWI ace fighter pilot\, Olympic athlete\, racing driver\, part-time sleuth and all round spiffing chap - must save the world from the dastardly Count Otto van Bruno\, his wartime adversary.<br />\n<br />\nAnd\, of course\, win the heart of a jolly nice young lady.</strong><br />\n&nbsp\;
LOCATION:Barnstormers Theatre 112 NE Evelyn Ave. Grants Pass\, Or 97526
UID:e.1818.24925
SEQUENCE:3
DTSTAMP:20260424T114621Z
URL:https://business.grantspasschamber.org/events/details/bullshot-crummond-barnstormers-theatre-24925
END:VEVENT

END:VCALENDAR
