BEGIN:VCALENDAR
VERSION:2.0
PRODID:-//ChamberMaster//Event Calendar 2.0//EN
METHOD:PUBLISH
X-PUBLISHED-TTL:P3D
REFRESH-INTERVAL:P3D
CALSCALE:GREGORIAN
BEGIN:VEVENT
DTSTART;VALUE=DATE:20160331
DTEND;VALUE=DATE:20160401
TRANSP:TRANSPARENT
X-MICROSOFT-CDO-ALLDAYEVENT:TRUE
SUMMARY:Butterflies\, Gardens & Climate Change in YOUR Backyard
DESCRIPTION:A benefit for Rust Ranch Nature Center by donation\n\n\n\nBeautiful Slides\, Demos and Hands - on gardening tips !!
X-ALT-DESC;FMTTYPE=text/html:<strong><u>A benefit for Rust Ranch Nature Center by donation</u><br />\n<br />\nBeautiful Slides\, Demos and Hands - on gardening tips !!</strong><br />\n&nbsp\;
LOCATION:Bear Hotel 2101 NE Spalding Rd Grants Pass
UID:e.1818.16871
SEQUENCE:3
DTSTAMP:20260426T030803Z
URL:https://business.grantspasschamber.org/events/details/butterflies-gardens-climate-change-in-your-backyard-03-31-2016-16871
END:VEVENT

END:VCALENDAR
