BEGIN:VCALENDAR
VERSION:2.0
PRODID:-//ChamberMaster//Event Calendar 2.0//EN
METHOD:PUBLISH
X-PUBLISHED-TTL:P3D
REFRESH-INTERVAL:P3D
CALSCALE:GREGORIAN
BEGIN:VEVENT
DTSTART:20160725T160000Z
DTEND:20160728T200000Z
X-MICROSOFT-CDO-ALLDAYEVENT:FALSE
SUMMARY:Camp Fun- Arts\, Crafts\, Nature and so Much More
DESCRIPTION:This camp is filled to the brim with fun! We will be exploring nature and using nature to create fun projects! Kids will have so much fun exploring Pacifica's ponds and wildlife while collecting insects from land and water that we inspect and identify! Included are scavenger hunts\, games\, art\, and building projects. If it is a hot summer day we will even have fun in the sprinkler!!
X-ALT-DESC;FMTTYPE=text/html:This camp is filled to the brim with fun! We will be exploring nature and using nature to create fun projects! Kids will have so much fun exploring Pacifica&rsquo\;s ponds and wildlife while collecting insects from land and water that we inspect and identify! Included are scavenger hunts\, games\, art\, and building projects. If it is a hot summer day we will even have fun in the sprinkler!!
LOCATION:Pacifica: A Garden in the Siskiyous 14615 Watergap Road Williams\, Oregon
UID:e.1818.17531
SEQUENCE:3
DTSTAMP:20260425T210943Z
URL:https://business.grantspasschamber.org/events/details/camp-fun-arts-crafts-nature-and-so-much-more-07-25-2016-17531
END:VEVENT

END:VCALENDAR
