BEGIN:VCALENDAR
VERSION:2.0
PRODID:-//ChamberMaster//Event Calendar 2.0//EN
METHOD:PUBLISH
X-PUBLISHED-TTL:P3D
REFRESH-INTERVAL:P3D
CALSCALE:GREGORIAN
BEGIN:VEVENT
DTSTART:20161006T010000Z
DTEND:20161006T030000Z
X-MICROSOFT-CDO-ALLDAYEVENT:FALSE
SUMMARY:Candidate Forum - County Commissioner
DESCRIPTION:The Daily Courier and the Grants Pass & Josephine County Chamber of Commerce will sponsor two candidate forums.\n\n\n\n\n\nThe First Forum will feature on Wednesday\, October 5th candidates for the Josephine County Board of Commissioners\, as well as presentations\, pro and con\, about the proposed four-year property tax to fund public safety services.\n\n\n\nIn the race for Josephine County commissioner\, Grants Pass Council President Dan DeYoung is challenging incumbent Keith Heck\, who is seeking a second term.\n\n\n\nIn the other race for commissioner\, former Grants Pass City Councilor Lily Morgan is facing retired businessman Bill Hunker for the seat being vacated by Cherryl Walker who is not seeking a second term.
X-ALT-DESC;FMTTYPE=text/html:<strong>The Daily Courier and the Grants Pass &amp\; Josephine County Chamber of Commerce will sponsor two candidate forums.<br />\n<br />\n<br />\n<u>The First Forum</u> will feature on Wednesday\, October 5th candidates for the Josephine County Board of Commissioners\, as well as presentations\, pro and con\, about the proposed four-year property tax to fund public safety services.<br />\n<br />\nIn the race for Josephine County commissioner\, Grants Pass Council President Dan DeYoung is challenging incumbent Keith Heck\, who is seeking a second term.<br />\n<br />\nIn the other race for commissioner\, former Grants Pass City Councilor Lily Morgan is facing retired businessman Bill Hunker for the seat being vacated by Cherryl Walker who is not seeking a second term.</strong>
LOCATION:Anne Basker Auditorium 604 NW Sixth Street
UID:e.1818.17839
SEQUENCE:3
DTSTAMP:20260425T162755Z
URL:https://business.grantspasschamber.org/events/details/candidate-forum-county-commissioner-17839
END:VEVENT

END:VCALENDAR
