BEGIN:VCALENDAR
VERSION:2.0
PRODID:-//ChamberMaster//Event Calendar 2.0//EN
METHOD:PUBLISH
X-PUBLISHED-TTL:P3D
REFRESH-INTERVAL:P3D
CALSCALE:GREGORIAN
BEGIN:VEVENT
DTSTART:20171216T030000Z
DTEND:20171216T050000Z
X-MICROSOFT-CDO-ALLDAYEVENT:FALSE
SUMMARY:Candlelight Concert Sacred Choral Music 2017
DESCRIPTION:FREE Candlelight Concert Sacred Choral Music Directed By Doug Norby Plus and Inspirational Holiday Talk By "Letting Go" Author Guy Finley All Are Welcome to the FREE Event! Refreshments Will Be Served
X-ALT-DESC;FMTTYPE=text/html:<strong>FREE Candlelight Concert Sacred Choral Music Directed By Doug Norby Plus and Inspirational Holiday Talk By &quot\;Letting Go&quot\; Author Guy Finley All Are Welcome to the FREE Event! Refreshments Will Be Served</strong>
LOCATION:Life of Learning Foundation 459 Galice Rd\, Merlin\, OR HWY 5 to exit 61\, go left 4 miles Look for the Christmas Lights on the left.
UID:e.1818.24846
SEQUENCE:3
DTSTAMP:20260424T163856Z
URL:https://business.grantspasschamber.org/events/details/candlelight-concert-sacred-choral-music-2017-24846
END:VEVENT

END:VCALENDAR
