BEGIN:VCALENDAR
VERSION:2.0
PRODID:-//ChamberMaster//Event Calendar 2.0//EN
METHOD:PUBLISH
X-PUBLISHED-TTL:P3D
REFRESH-INTERVAL:P3D
CALSCALE:GREGORIAN
BEGIN:VEVENT
DTSTART:20190420T190000Z
DTEND:20190421T000000Z
X-MICROSOFT-CDO-ALLDAYEVENT:FALSE
SUMMARY:Cannafair
DESCRIPTION:Live Music\, Vendors\, Carnival Games\, Deals\, Drawings\, and  More\n\n115 Galice Rd
X-ALT-DESC;FMTTYPE=text/html:Live Music\, Vendors\, Carnival Games\, Deals\, Drawings\, and&nbsp\; More<br />\n115 Galice Rd
LOCATION:River City 115 Galice Rd
UID:e.1818.31211
SEQUENCE:3
DTSTAMP:20260424T050641Z
URL:https://business.grantspasschamber.org/events/details/cannafair-31211
END:VEVENT

END:VCALENDAR
