BEGIN:VCALENDAR
VERSION:2.0
PRODID:-//ChamberMaster//Event Calendar 2.0//EN
METHOD:PUBLISH
X-PUBLISHED-TTL:P3D
REFRESH-INTERVAL:P3D
CALSCALE:GREGORIAN
BEGIN:VEVENT
DTSTART:20160419T170000Z
DTEND:20160419T230000Z
X-MICROSOFT-CDO-ALLDAYEVENT:FALSE
SUMMARY:Career Open House
DESCRIPTION:Partnerships in Community Living\, Inc is a not-for-profit organization that supports adults and children with developmental and intellectual disabilities.\n\n\n\nWe are currently hiring for Direct Support Professionals in Southern Oregon.\n\n\n\nPlease stop by our Grants Pass office for our Career Open House\, and to learn more about our company! Computers will be set up so you can apply on the spot\, and light refreshments will be served.
X-ALT-DESC;FMTTYPE=text/html:<strong>Partnerships in Community Living\, Inc is a not-for-profit organization that supports adults and children with developmental and intellectual disabilities.<br />\n<br />\nWe are currently hiring for Direct Support Professionals in Southern Oregon.<br />\n<br />\nPlease stop by our Grants Pass office for our Career Open House\, and to learn more about our company! Computers will be set up so you can apply on the spot\, and light refreshments will be served.</strong>
LOCATION:550 NE E Street\, Grants Pass\, OR. 97526
UID:e.1818.17147
SEQUENCE:3
DTSTAMP:20260426T013438Z
URL:https://business.grantspasschamber.org/events/details/career-open-house-04-19-2016-17147
END:VEVENT

END:VCALENDAR
