BEGIN:VCALENDAR
VERSION:2.0
PRODID:-//ChamberMaster//Event Calendar 2.0//EN
METHOD:PUBLISH
X-PUBLISHED-TTL:P3D
REFRESH-INTERVAL:P3D
CALSCALE:GREGORIAN
BEGIN:VEVENT
DTSTART;VALUE=DATE:20160630
DTEND;VALUE=DATE:20160701
TRANSP:TRANSPARENT
X-MICROSOFT-CDO-ALLDAYEVENT:TRUE
SUMMARY:Caregiver Support Group ~ Alzheimer's Association
DESCRIPTION:Taking care of your family also means taking care of yourself and getting help.\n\n\n\nJoining a support group is an important and positive step towards self care. \n\n\n\nMeetings are the last Thursday of the month
X-ALT-DESC;FMTTYPE=text/html:<strong>Taking care of your family also means taking care of yourself and getting help.<br />\n<br />\nJoining a support group is an important and positive step towards self care.&nbsp\;<br />\n<br />\nMeetings are the last Thursday of the month</strong>
LOCATION:Lovejoy Hospice 939 SE 8th St Grants Pass
UID:e.1818.17559
SEQUENCE:3
DTSTAMP:20260425T224019Z
URL:https://business.grantspasschamber.org/events/details/caregiver-support-group-alzheimer-s-association-06-30-2016-17559
END:VEVENT

END:VCALENDAR
