BEGIN:VCALENDAR
VERSION:2.0
PRODID:-//ChamberMaster//Event Calendar 2.0//EN
METHOD:PUBLISH
X-PUBLISHED-TTL:P3D
REFRESH-INTERVAL:P3D
CALSCALE:GREGORIAN
BEGIN:VEVENT
DTSTART:20231111T010000Z
DTEND:20231111T040000Z
X-MICROSOFT-CDO-ALLDAYEVENT:FALSE
SUMMARY:CASH PRIZE BINGO
DESCRIPTION:St. Anne Catholic School will be hosting an ADULT ONLY CASH PRIZE BINGO on Friday\, November 10\, 2023.\n\n\n\nDoors open at 5pm Game 1 - $50 cash prize Games 2-4 - $25 cash prize Game 5 - $50 cash prize Games 6-9 - $25 cash prize BLACKOUT - $100 cash prize
X-ALT-DESC;FMTTYPE=text/html:<br />\n<span style="font-size:20px\;">St. Anne Catholic School will be hosting an ADULT ONLY CASH PRIZE BINGO on Friday\, November 10\, 2023.<br />\n<br />\nDoors open at 5pm Game 1 - $50 cash prize Games 2-4 - $25 cash prize Game 5 - $50 cash prize Games 6-9 - $25 cash prize BLACKOUT - $100 cash prize</span>
LOCATION:St. Anne Catholic Church Parish Center 1131 NE 10th Street Grants Pass\, OR 97526
UID:e.1818.45840
SEQUENCE:3
DTSTAMP:20260420T213105Z
URL:https://business.grantspasschamber.org/events/details/cash-prize-bingo-45840
END:VEVENT

END:VCALENDAR
