BEGIN:VCALENDAR
VERSION:2.0
PRODID:-//ChamberMaster//Event Calendar 2.0//EN
METHOD:PUBLISH
X-PUBLISHED-TTL:P3D
REFRESH-INTERVAL:P3D
CALSCALE:GREGORIAN
BEGIN:VEVENT
DTSTART;VALUE=DATE:20161011
DTEND;VALUE=DATE:20161012
TRANSP:TRANSPARENT
X-MICROSOFT-CDO-ALLDAYEVENT:TRUE
SUMMARY:Cave Junction Candidate Forum ~ City Council & Mayor
DESCRIPTION:Cave Junction & Illinois Valley Candidate Forum for City Council & Mayor
X-ALT-DESC;FMTTYPE=text/html:<strong>Cave Junction &amp\; Illinois Valley Candidate Forum for City Council &amp\; Mayor</strong>
LOCATION:Josephine County Building 102 S Redwood Hwy Cave Junction
UID:e.1818.17866
SEQUENCE:3
DTSTAMP:20260425T163155Z
URL:https://business.grantspasschamber.org/events/details/cave-junction-candidate-forum-city-council-mayor-17866
END:VEVENT

END:VCALENDAR
