BEGIN:VCALENDAR
VERSION:2.0
PRODID:-//ChamberMaster//Event Calendar 2.0//EN
METHOD:PUBLISH
X-PUBLISHED-TTL:P3D
REFRESH-INTERVAL:P3D
CALSCALE:GREGORIAN
BEGIN:VEVENT
DTSTART;VALUE=DATE:20171208
DTEND;VALUE=DATE:20171209
TRANSP:TRANSPARENT
X-MICROSOFT-CDO-ALLDAYEVENT:TRUE
SUMMARY:Caveman Kiwanis ~ See's Candy Locations
DESCRIPTION:The See's Candy sale season is officially underway. \n\nCaveman Kiwanis Club members are busy selling delicious chocolates\, favorite holiday confections\, and other irresistible sweet treats at all three (3) locations in Grants Pass.\n\n\n\nSee's Candy locations will be selling through Christmas Eve\, or until it's all sold out.\n\n\n\nStop by Baskin-Robbins at 300 Union Avenue and KFC location at 280 NE Beacon Dr\, which are open from 10am to 6pm daily.\n\n\n\nThe downtown "G"Street "candy shack" is open 10am to 5pm\, Monday through Saturday.\n\n\n\nPlease support the Caveman Kiwanis' holiday fund-raiser that underwrites several projects and programs benefiting the children and families in Grants Pass and Josephine County.
X-ALT-DESC;FMTTYPE=text/html:<strong><u>The See&#39\;s Candy sale season is officially underway.</u>&nbsp\;<br />\nCaveman Kiwanis Club members are busy selling delicious chocolates\, favorite holiday confections\, and other irresistible sweet treats at all three (3) locations in Grants Pass.<br />\n<br />\n<span style="color:#FF0000\;"><u>See&#39\;s Candy locations will be selling through Christmas Eve</u></span>\, or until it&#39\;s all sold out.<br />\n<br />\nStop by Baskin-Robbins at 300 Union Avenue and KFC location at 280 NE Beacon Dr\, which are open from 10am to 6pm daily.<br />\n<br />\nThe downtown &quot\;G&quot\;Street &quot\;candy shack&quot\; is open 10am to 5pm\, Monday through Saturday.<br />\n<br />\nPlease support the Caveman Kiwanis&#39\; holiday fund-raiser that underwrites several projects and programs benefiting the children and families in Grants Pass and Josephine County.</strong><br />\n&nbsp\;
LOCATION:The Baskin-Robbins 300 Union Avenue 10am to 6pm (Daily) KFC 280 NE Beacon St 10am to 6pm (Daily) Downtown "G" Street @ 6th & G 10am - 5pm (Monday - Saturday)
UID:e.1818.24871
SEQUENCE:3
DTSTAMP:20260424T163450Z
URL:https://business.grantspasschamber.org/events/details/caveman-kiwanis-see-s-candy-locations-24871
END:VEVENT

END:VCALENDAR
