BEGIN:VCALENDAR
VERSION:2.0
PRODID:-//ChamberMaster//Event Calendar 2.0//EN
METHOD:PUBLISH
X-PUBLISHED-TTL:P3D
REFRESH-INTERVAL:P3D
CALSCALE:GREGORIAN
BEGIN:VEVENT
DTSTART:20171112T010000Z
DTEND:20171112T040000Z
X-MICROSOFT-CDO-ALLDAYEVENT:FALSE
SUMMARY:Chair-ish The Season
DESCRIPTION:Three Southern Oregon Aspire Artists (Employee with intellectual or developmental disabilities) and their Host Sponsor (Employee Coach/Mgr.) will create a themed chair to be auctioned off to the highest bidder.\n\n\n\nEach unique chair will be on display in Shop River Rock Home D cor & Lifestyle Boutique throughout the month of November and will feature the Artist Bio and their journey with Aspire.\n\n\n\nShoppers will have the opportunity to place their bid anytime during SRR business hours\, but can enjoy an Aspired event each Saturday evening from 5p-8p.\n\n\n\nWeekly event includes Artist meet & greet\, Climate City Brewing food samples and Hellgate Cellars Wine Tasting.
X-ALT-DESC;FMTTYPE=text/html:<strong><u>Three Southern Oregon Aspire Artists</u> (Employee with intellectual or developmental disabilities) and their Host Sponsor (Employee Coach/Mgr.) will create a themed chair to be auctioned off to the highest bidder.<br />\n<br />\nEach unique chair will be on display in Shop River Rock Home D&eacute\;cor &amp\; Lifestyle Boutique throughout the month of November and will feature the Artist Bio and their journey with Aspire.<br />\n<br />\nShoppers will have the opportunity to place their bid anytime during SRR business hours\, but can enjoy an Aspired event each Saturday evening from 5p-8p.<br />\n<br />\nWeekly event includes Artist meet &amp\; greet\, Climate City Brewing food samples and Hellgate Cellars Wine Tasting.</strong>
LOCATION:Shop River Rock 966 SW 6th Street Grants Pass
UID:e.1818.24712
SEQUENCE:3
DTSTAMP:20260424T182009Z
URL:https://business.grantspasschamber.org/events/details/chair-ish-the-season-24712
END:VEVENT

END:VCALENDAR
