BEGIN:VCALENDAR
VERSION:2.0
PRODID:-//ChamberMaster//Event Calendar 2.0//EN
METHOD:PUBLISH
X-PUBLISHED-TTL:P3D
REFRESH-INTERVAL:P3D
CALSCALE:GREGORIAN
BEGIN:VEVENT
DTSTART:20161020T150000Z
DTEND:20161020T163000Z
X-MICROSOFT-CDO-ALLDAYEVENT:FALSE
SUMMARY:Chamber KickStart Workshop
DESCRIPTION:Chamber KickStart Workshop discusses the Chamber Directory Page\, and how to update information  about your business\, plus other marketing tools for Chamber Members\n\n\n\nIncludes coffee\, juice and morning snacks\n\n\n\nSponsored by BBSI
X-ALT-DESC;FMTTYPE=text/html:<strong><u><em>Chamber KickStart Workshop</em></u> discusses the Chamber Directory Page\, and how to update information&nbsp\; about your business\, plus other marketing tools for Chamber Members<br />\n<br />\nIncludes coffee\, juice and morning snacks<br />\n<br />\nSponsored by BBSI</strong>
LOCATION:Grants Pass/Jos County Chamber Visitors Center Chamber Boardroom 1995 NW Vine Street Grants Pass
UID:e.1818.17819
SEQUENCE:3
DTSTAMP:20260425T162642Z
URL:https://business.grantspasschamber.org/events/details/chamber-kickstart-workshop-17819
END:VEVENT

END:VCALENDAR
