BEGIN:VCALENDAR
VERSION:2.0
PRODID:-//ChamberMaster//Event Calendar 2.0//EN
METHOD:PUBLISH
X-PUBLISHED-TTL:P3D
REFRESH-INTERVAL:P3D
CALSCALE:GREGORIAN
BEGIN:VEVENT
DTSTART:20250109T033000Z
DTEND:20250109T050000Z
X-MICROSOFT-CDO-ALLDAYEVENT:FALSE
SUMMARY:Chamber Music Concerts presents: Isidore Quartet
DESCRIPTION:Join the Chamber Music Concerts Series for their 41st season and the fifth concert of the series featuring Isidore Quartet on Wednesday\, January 8th 7:30pm at the SOU Music Recital Hall.\n\n\n\nPROGRAM: Mozart - String Quartet in C Major\, K. 465 "Dissonance" Childs - String Quartet no. 3 "Unrequited" Mendelssohn - String Quartet in E-flat Major\, Op. 44 no. 3 Tickets are available at https://chambermusicconcerts.org\n\n\n\nABOUT THE ARTISTS: Winners of a 2023 Avery Fisher Career Grant and the 14th Banff International String Quartet Competition in 2022\, the New York City-based Isidore String Quartet was formed in 2019 with a vision to revisit\, rediscover\, and reinvigorate the repertory. The quartet is heavily influenced by the Juilliard String Quartet and the idea of "approaching the established as if it were brand new\, and the new as if it were firmly established."
X-ALT-DESC;FMTTYPE=text/html:<span style="font-size:20px\;">Join the Chamber Music Concerts Series for their 41st season and the fifth concert of the series featuring Isidore Quartet on Wednesday\, January 8th 7:30pm at the SOU Music Recital Hall.<br />\n<br />\nPROGRAM: Mozart - String Quartet in C Major\, K. 465 &ldquo\;Dissonance&rdquo\; Childs - String Quartet no. 3 &ldquo\;Unrequited&rdquo\; Mendelssohn - String Quartet in E-flat Major\, Op. 44 no. 3 Tickets are available at&nbsp\;<a href="https://chambermusicconcerts.org">https://chambermusicconcerts.org</a><br />\n<br />\nABOUT THE ARTISTS: Winners of a 2023 Avery Fisher Career Grant and the 14th Banff International String Quartet Competition in 2022\, the New York City-based Isidore String Quartet was formed in 2019 with a vision to revisit\, rediscover\, and reinvigorate the repertory. The quartet is heavily influenced by the Juilliard String Quartet and the idea of &ldquo\;approaching the established as if it were brand new\, and the new as if it were firmly established.&rdquo\;</span>
LOCATION:450 S Mountain Ave Ashland\, OR 95720
UID:e.1818.52268
SEQUENCE:3
DTSTAMP:20260419T185036Z
URL:https://business.grantspasschamber.org/events/details/chamber-music-concerts-presents-isidore-quartet-52268
END:VEVENT

END:VCALENDAR
