BEGIN:VCALENDAR
VERSION:2.0
PRODID:-//ChamberMaster//Event Calendar 2.0//EN
METHOD:PUBLISH
X-PUBLISHED-TTL:P3D
REFRESH-INTERVAL:P3D
CALSCALE:GREGORIAN
BEGIN:VEVENT
DTSTART:20241026T220000Z
DTEND:20241026T233000Z
X-MICROSOFT-CDO-ALLDAYEVENT:FALSE
SUMMARY:Chamber Music Concerts presents: Quartetto di Cremona
DESCRIPTION:Join the Chamber Music Concerts Series for their 41st season and the second concert of the series featuring Quartetto di Cremona on Saturday\, October 26th at 3:00pm at the SOU Music Recital Hall. "It's a rare blend: breadth of sound and capriciousness combined with perfect tuning and ensemble has the players sounding absolutely of one voice  Nothing less than life-affirming."  Gramophone PROGRAM: Dvor k - String Quartet in F Major\, Op. 96 "American" Bart k - String Quartet no. 4 Schumann - String Quartet in A Minor\, Op. 41 no. 1 Tickets are available at https://chambermusicconcerts.org About the Quartet: Winner of the 2019 Franco Buitoni Award\, Quartetto di Cremona is among the world's preeminent string quartets\, noted for its lustrous sound\, refined musicianship\, and stylistic versatility. According to The Strad\, its Lincoln Center debut in 2022 "was distinguished by splendid balance\, abundant colour and a relaxed mastery of all the musical elements." The quartet was established in 2000 at the Accademia Walter Stauffer in Cremona\, Italy. Now in its 24th season\, it has toured extensively in Europe\, the United States\, South America\, and Asia\, and performed regularly on radio and television broadcasts.
X-ALT-DESC;FMTTYPE=text/html:<span style="font-size:20px\;">Join the Chamber Music Concerts Series for their 41st season and the second concert of the series featuring Quartetto di Cremona on Saturday\, October 26th at 3:00pm at the SOU Music Recital Hall. &ldquo\;It&#39\;s a rare blend: breadth of sound and capriciousness combined with perfect tuning and ensemble has the players sounding absolutely of one voice&hellip\; Nothing less than life-affirming.&rdquo\; &mdash\;Gramophone PROGRAM: Dvor&aacute\;k - String Quartet in F Major\, Op. 96 &ldquo\;American&rdquo\; Bart&oacute\;k - String Quartet no. 4 Schumann - String Quartet in A Minor\, Op. 41 no. 1 Tickets are available at https://chambermusicconcerts.org About the Quartet: Winner of the 2019 Franco Buitoni Award\, Quartetto di Cremona is among the world&#39\;s preeminent string quartets\, noted for its lustrous sound\, refined musicianship\, and stylistic versatility. According to The Strad\, its Lincoln Center debut in 2022 &ldquo\;was distinguished by splendid balance\, abundant colour and a relaxed mastery of all the musical elements.&rdquo\; The quartet was established in 2000 at the Accademia Walter Stauffer in Cremona\, Italy. Now in its 24th season\, it has toured extensively in Europe\, the United States\, South America\, and Asia\, and performed regularly on radio and television broadcasts.</span>
LOCATION:450 S Mountain Ave Ashland\, OR 97520
UID:e.1818.52260
SEQUENCE:3
DTSTAMP:20260420T020027Z
URL:https://business.grantspasschamber.org/events/details/chamber-music-concerts-presents-quartetto-di-cremona-52260
END:VEVENT

END:VCALENDAR
