BEGIN:VCALENDAR
VERSION:2.0
PRODID:-//ChamberMaster//Event Calendar 2.0//EN
METHOD:PUBLISH
X-PUBLISHED-TTL:P3D
REFRESH-INTERVAL:P3D
CALSCALE:GREGORIAN
BEGIN:VEVENT
DTSTART:20250125T033000Z
DTEND:20250125T050000Z
X-MICROSOFT-CDO-ALLDAYEVENT:FALSE
SUMMARY:Chamber Music Concerts presents: Ulysses Quartet
DESCRIPTION:Join the Chamber Music Concerts Series for their 41st season and the sixth concert of the series featuring Ulysses Quartet on Friday\, January 24th 7:30pm at the SOU Music Recital Hall. " the kind of chemistry many quartets long for\, but rarely achieve"  The Strad\n\n\n\nPROGRAM: Caroline Shaw - Plan & Elevation Prokofiev - String Quartet no. 2 in F Major\, Op. 92 Mendelssohn - String Quartet in D Major\, Op. 44 no. 1 Tickets are available at https://chambermusicconcerts.org\n\n\n\nABOUT THE ARTISTS: Founded in the summer of 2015\, the Ulysses Quartet won the Grand Prize and Gold Medal in the senior string division of the 2016 Fischoff National Chamber Music Competition and First Prize in the 2018 Schoenfeld International String Competition. In 2017\, the quartet finished first in the American Prize and won Second Prize at the Osaka International Chamber Music Competition\, and won the Vietnam International Music Competition in 2019. Ulysses garnered a career development grant in the 2016 Banff International String Quartet Competition.
X-ALT-DESC;FMTTYPE=text/html:<span style="font-size:20px\;">Join the Chamber Music Concerts Series for their 41st season and the sixth concert of the series featuring Ulysses Quartet on Friday\, January 24th 7:30pm at the SOU Music Recital Hall. &ldquo\;&hellip\;the kind of chemistry many quartets long for\, but rarely achieve&rdquo\; &mdash\;The Strad<br />\n<br />\nPROGRAM: Caroline Shaw - Plan &amp\; Elevation Prokofiev - String Quartet no. 2 in F Major\, Op. 92 Mendelssohn - String Quartet in D Major\, Op. 44 no. 1 Tickets are available at&nbsp\;<a href="https://chambermusicconcerts.org">https://chambermusicconcerts.org</a><br />\n<br />\nABOUT THE ARTISTS: Founded in the summer of 2015\, the Ulysses Quartet won the Grand Prize and Gold Medal in the senior string division of the 2016 Fischoff National Chamber Music Competition and First Prize in the 2018 Schoenfeld International String Competition. In 2017\, the quartet finished first in the American Prize and won Second Prize at the Osaka International Chamber Music Competition\, and won the Vietnam International Music Competition in 2019. Ulysses garnered a career development grant in the 2016 Banff International String Quartet Competition.&nbsp\;</span>
LOCATION:SOU 450 South Mountain Ave Ashland\, OR 97520
UID:e.1818.52270
SEQUENCE:3
DTSTAMP:20260419T185035Z
URL:https://business.grantspasschamber.org/events/details/chamber-music-concerts-presents-ulysses-quartet-52270
END:VEVENT

END:VCALENDAR
