BEGIN:VCALENDAR
VERSION:2.0
PRODID:-//ChamberMaster//Event Calendar 2.0//EN
METHOD:PUBLISH
X-PUBLISHED-TTL:P3D
REFRESH-INTERVAL:P3D
CALSCALE:GREGORIAN
BEGIN:VEVENT
DTSTART;VALUE=DATE:20160923
DTEND;VALUE=DATE:20160924
TRANSP:TRANSPARENT
X-MICROSOFT-CDO-ALLDAYEVENT:TRUE
SUMMARY:Charity Golf Tournament ~'' tee off for kids'' ~ 7th Annual
DESCRIPTION:Charity Golf Tournament ~ Proceeds benefit the Kids Smile Dental Prevention Program\, Healthy Families of Southern Oregon and Project Baby Check.\n\n\n\nPresented by Insurance Lounge\n\n\n\n\n\nSign up online http://wwwsiskiyouhealthcenter.com
X-ALT-DESC;FMTTYPE=text/html:<strong><u>Charity Golf Tournament </u>~ Proceeds benefit the Kids Smile Dental Prevention Program\, Healthy Families of Southern Oregon and Project Baby Check.<br />\n<br />\n<u>Presented by Insurance Lounge</u><br />\n<br />\n<br />\nSign up online <a href="http://wwwsiskiyouhealthcenter.com">http://wwwsiskiyouhealthcenter.com</a></strong><br />\n&nbsp\;
LOCATION:Grants Pass Golf Club
UID:e.1818.17776
SEQUENCE:3
DTSTAMP:20260425T181925Z
URL:https://business.grantspasschamber.org/events/details/charity-golf-tournament-tee-off-for-kids-7th-annual-17776
END:VEVENT

END:VCALENDAR
