BEGIN:VCALENDAR
VERSION:2.0
PRODID:-//ChamberMaster//Event Calendar 2.0//EN
METHOD:PUBLISH
X-PUBLISHED-TTL:P3D
REFRESH-INTERVAL:P3D
CALSCALE:GREGORIAN
BEGIN:VEVENT
DTSTART:20160223T010000Z
DTEND:20160223T030000Z
X-MICROSOFT-CDO-ALLDAYEVENT:FALSE
SUMMARY:CHICK PEAS
DESCRIPTION:Chick peas aren't just for making hummus. These powerhouse legumes are very versatile. Come\, learn\, and be surprised by the meals that you can make with the humble chick pea. FREE COOKING CLASS! Class includes recipes as well as samples of each item prepared. Classes will be held in the Demonstration Kitchen on the 4th Floor of the Asante Center for Outpatient Health located at 537 SW Union Avenue in Grants Pass. Space is limited\, reservations are required. Please call and reserve your seat at 541-471-4208.
X-ALT-DESC;FMTTYPE=text/html:Chick peas aren&#39\;t just for making hummus. These powerhouse legumes are very versatile. Come\, learn\, and be surprised by the meals that you can make with the humble chick pea. FREE COOKING CLASS! Class includes recipes as well as samples of each item prepared. Classes will be held in the Demonstration Kitchen on the 4th Floor of the Asante Center for Outpatient Health located at 537 SW Union Avenue in Grants Pass. Space is limited\, reservations are required. Please call and reserve your seat at 541-471-4208.
LOCATION:Asante Center for Outpatient Health 537 SW Union Ave Grants Pass\, OR 97527 Demonstration Kitchen\, Fourth Floor ? Straight ahead off the elevator
UID:e.1818.15569
SEQUENCE:3
DTSTAMP:20260426T043641Z
URL:https://business.grantspasschamber.org/events/details/chick-peas-02-22-2016-15569
END:VEVENT

END:VCALENDAR
