BEGIN:VCALENDAR
VERSION:2.0
PRODID:-//ChamberMaster//Event Calendar 2.0//EN
METHOD:PUBLISH
X-PUBLISHED-TTL:P3D
REFRESH-INTERVAL:P3D
CALSCALE:GREGORIAN
BEGIN:VEVENT
DTSTART:20160820T150000Z
DTEND:20160820T200000Z
X-MICROSOFT-CDO-ALLDAYEVENT:FALSE
SUMMARY:Children's Clothing Fair
DESCRIPTION:Please join us for our first Children?s Clothing Fair! All proceeds will benefit the Women's Crisis Support Team children's program.\n\n\n\nClothing donations for any size children's clothing\, through teens\, will be accepted at our public office at 2166 NW Vine St. Suite C.\n\n\n\nWe are in the same parking lot as Club Northwest.
X-ALT-DESC;FMTTYPE=text/html:<strong>Please join us for our first Children?s Clothing Fair! All proceeds will benefit the Women&#39\;s Crisis Support Team children&#39\;s program.<br />\n<br />\nClothing donations for any size children&#39\;s clothing\, through teens\, will be accepted at our public office at 2166 NW Vine St. Suite C.<br />\n<br />\nWe are in the same parking lot as Club Northwest.</strong>
LOCATION:110 SW 4th St in the Washington Federal parking lot
UID:e.1818.17511
SEQUENCE:3
DTSTAMP:20260425T192705Z
URL:https://business.grantspasschamber.org/events/details/children-s-clothing-fair-08-20-2016-17511
END:VEVENT

END:VCALENDAR
