BEGIN:VCALENDAR
VERSION:2.0
PRODID:-//ChamberMaster//Event Calendar 2.0//EN
METHOD:PUBLISH
X-PUBLISHED-TTL:P3D
REFRESH-INTERVAL:P3D
CALSCALE:GREGORIAN
BEGIN:VEVENT
DTSTART;VALUE=DATE:20161118
DTEND;VALUE=DATE:20161120
TRANSP:TRANSPARENT
X-MICROSOFT-CDO-ALLDAYEVENT:TRUE
SUMMARY:Christmas for Missions
DESCRIPTION:Hand-crafted wooden cribbage boards\, crosses\, pens\, quilts\, quilted table runners\, toppers\, wreaths\, centerpieces\, scarves\, aprons and gifts for the Home.\n\n\n\nA Christmas cookie walk\, home made candies\, breads\, jelly\, jams\, pie & coffee.\n\n\n\nProceeds help fund local community and national charitable projects.
X-ALT-DESC;FMTTYPE=text/html:Hand-crafted wooden cribbage boards\, crosses\, pens\, quilts\, quilted table runners\, toppers\, wreaths\, centerpieces\, scarves\, aprons and gifts for the Home.<br />\n<br />\n<strong>A Christmas cookie walk\, home made candies\, breads\, jelly\, jams\, pie &amp\; coffee.<br />\n<br />\nProceeds help fund local community and national charitable projects.</strong>
LOCATION:St. Paul's Lutheran Church 865 NW 5th Street
UID:e.1818.18036
SEQUENCE:3
DTSTAMP:20260425T143723Z
URL:https://business.grantspasschamber.org/events/details/christmas-for-missions-18036
END:VEVENT

END:VCALENDAR
