BEGIN:VCALENDAR
VERSION:2.0
PRODID:-//ChamberMaster//Event Calendar 2.0//EN
METHOD:PUBLISH
X-PUBLISHED-TTL:P3D
REFRESH-INTERVAL:P3D
CALSCALE:GREGORIAN
BEGIN:VEVENT
DTSTART:20161118T170000Z
DTEND:20161119T230000Z
X-MICROSOFT-CDO-ALLDAYEVENT:FALSE
SUMMARY:Christmas for Missions Bazaar
DESCRIPTION:St. Paul's Ladies' Guild hosts our annual Christmas Bazaar featuring our famous "Cookie Walk"\; Christmas cookies sold by the pound.\n\n\n\nAlso for sale are quality hand-crafted items\,quilts\, jams & jellies\, candy and baked goods - all made by the men & women of St. Paul's.\n\n\n\nExperience a bazaar unlike any other in the area. All proceeds benefit various local and national missions.
X-ALT-DESC;FMTTYPE=text/html:<strong>St. Paul&#39\;s Ladies&#39\; Guild hosts our annual Christmas Bazaar featuring our famous &quot\;Cookie Walk&quot\;\; Christmas cookies sold by the pound.<br />\n<br />\nAlso for sale are quality hand-crafted items\,quilts\, jams &amp\; jellies\, candy and baked goods - all made by the men &amp\; women of St. Paul&#39\;s.<br />\n<br />\nExperience a bazaar unlike any other in the area. All proceeds benefit various local and national missions.</strong>
LOCATION:865 NW 5th St. (corner of 5th & Evelyn) Grants Pass OR 97526
UID:e.1818.17999
SEQUENCE:3
DTSTAMP:20260425T143927Z
URL:https://business.grantspasschamber.org/events/details/christmas-for-missions-bazaar-17999
END:VEVENT

END:VCALENDAR
