BEGIN:VCALENDAR
VERSION:2.0
PRODID:-//ChamberMaster//Event Calendar 2.0//EN
METHOD:PUBLISH
X-PUBLISHED-TTL:P3D
REFRESH-INTERVAL:P3D
CALSCALE:GREGORIAN
BEGIN:VEVENT
DTSTART;VALUE=DATE:20171223
DTEND;VALUE=DATE:20171225
TRANSP:TRANSPARENT
X-MICROSOFT-CDO-ALLDAYEVENT:TRUE
SUMMARY:Christmas Worship Services ~ River Valley Church
DESCRIPTION:We invite you and your family & friends to join us as we celebrate the birth of our Lord Jesus Christ!\n\n\n\nWe have 8 services between our 3 campuses for you to choose from.\n\n\n\nDowntown Campus:\n\n405 NE 6th St\n\nSaturday\, December 23 @ 5pm\n\nSunday\, December 24 @ 8:50\, 10:10\, 11:30am & 4pm\n\n\n\nMurphy Campus:\n\n8551 New Hope Rd (Lincoln Savage Middle School)\n\nSunday\, December 24 @ 10am\n\n\n\nRedwood Campus:\n\n2193 Midway Ave\n\nSunday\, December 24 @ 10am\n\nand a completely different service at 5pm
X-ALT-DESC;FMTTYPE=text/html:<p><strong>We invite you and your family &amp\; friends to join us as we celebrate the birth of our Lord Jesus Christ!<br />\n<br />\nWe have 8 services between our 3 campuses for you to choose from.</strong></p>\n\n<p><br />\n<u><strong>Downtown Campus</strong></u>:<br />\n405 NE 6th St<br />\nSaturday\, December 23 @ 5pm<br />\nSunday\, December 24 @ 8:50\, 10:10\, 11:30am &amp\; 4pm<br />\n<br />\n<u><strong>Murphy Campus</strong>:</u><br />\n8551 New Hope Rd (Lincoln Savage Middle School)<br />\nSunday\, December 24 @ 10am<br />\n<br />\n<u><strong>Redwood Campus</strong></u>:<br />\n2193 Midway Ave<br />\nSunday\, December 24 @ 10am<br />\nand a completely different service at 5pm</p>\n
LOCATION:Downtown Campus: 405 NE 6th St Saturday\, December 23 @ 5pm Sunday\, December 24 @ 8:50\, 10:10\, 11:30am & 4pm Murphy Campus: 8551 New Hope Rd (Lincoln Savage Middle School) Sunday\, December 24 @ 10am Redwood Campus: 2193 Midway Ave Sunday\, December 24 @ 10am and a completely different service at 5pm
UID:e.1818.24915
SEQUENCE:3
DTSTAMP:20260424T163802Z
URL:https://business.grantspasschamber.org/events/details/christmas-worship-services-river-valley-church-24915
END:VEVENT

END:VCALENDAR
