BEGIN:VCALENDAR
VERSION:2.0
PRODID:-//ChamberMaster//Event Calendar 2.0//EN
METHOD:PUBLISH
X-PUBLISHED-TTL:P3D
REFRESH-INTERVAL:P3D
CALSCALE:GREGORIAN
BEGIN:VEVENT
DTSTART:20241113T020000Z
DTEND:20241113T033000Z
X-MICROSOFT-CDO-ALLDAYEVENT:FALSE
SUMMARY:City of Grants Pass Urban Renewal Agency - Community Forum
DESCRIPTION:The City of Grants Pass invites you to our Urban Renewal Agency (URA) Community Forum. This is an opportunity to provide input to the Agency on established economic and infrastructure projects within the URA boundary.\n\n\n\nThere will be: Presentations Discussions Q&A refreshments are provided
X-ALT-DESC;FMTTYPE=text/html:<span style="font-size:20px\;">The City of Grants Pass invites you to our Urban Renewal Agency (URA) Community Forum. This is an opportunity to provide input to the Agency on established economic and infrastructure projects within the URA boundary.<br />\n<br />\nThere will be: Presentations Discussions Q&amp\;A refreshments are provided</span>
LOCATION:City Hall - Council Chambers 101 NW A ST Grants Pass
UID:e.1818.52726
SEQUENCE:3
DTSTAMP:20260419T222801Z
URL:https://business.grantspasschamber.org/events/details/city-of-grants-pass-urban-renewal-agency-community-forum-52726
END:VEVENT

END:VCALENDAR
