BEGIN:VCALENDAR
VERSION:2.0
PRODID:-//ChamberMaster//Event Calendar 2.0//EN
METHOD:PUBLISH
X-PUBLISHED-TTL:P3D
REFRESH-INTERVAL:P3D
CALSCALE:GREGORIAN
BEGIN:VEVENT
DTSTART:20160810T170000Z
DTEND:20160810T210000Z
X-MICROSOFT-CDO-ALLDAYEVENT:FALSE
SUMMARY:CLA Estate Planning Workshop
DESCRIPTION:Free workshop providing valuable information for seniors on securing one's estate and retirement planning.\n\n\n\nYou will receive a workbook and gain useful information you can act upon immediately regarding: - Pros and cons of wills and trusts - How to avoid probate - Long term health care concerns - Tax reduction planning CLA Estate Services is a firm devoted to assisting area residents in protecting their assets and ensuring their money lasts.\n\n\n\nOur representatives have comprehensive knowledge of estate planning issues that will help you avoid common and sometimes irreversible mistakes.\n\n\n\nSeating is limited. Please call 1-866-252-8721 to confirm your attendance or for more information. Information in this workshop comes from a wide range of sources. For over twenty years\, we have been presenting concepts that come from clients\, attorneys\, financial planners\, government agencies\, and a wide variety of private and public sources.\n\n\n\nWe hope the information presented will help you have a better understanding of your planning choices.
X-ALT-DESC;FMTTYPE=text/html:<strong>Free workshop providing valuable information for seniors on securing one&#39\;s estate and retirement planning.<br />\n<br />\nYou will receive a workbook and gain useful information you can act upon immediately regarding: - Pros and cons of wills and trusts - How to avoid probate - Long term health care concerns - Tax reduction planning CLA Estate Services is a firm devoted to assisting area residents in protecting their assets and ensuring their money lasts.<br />\n<br />\nOur representatives have comprehensive knowledge of estate planning issues that will help you avoid common and sometimes irreversible mistakes.<br />\n<br />\nSeating is limited. Please call 1-866-252-8721 to confirm your attendance or for more information. Information in this workshop comes from a wide range of sources. For over twenty years\, we have been presenting concepts that come from clients\, attorneys\, financial planners\, government agencies\, and a wide variety of private and public sources.<br />\n<br />\nWe hope the information presented will help you have a better understanding of your planning choices.</strong>
LOCATION:Black Bear Diner 1900 NW 6th St. Grants Pass\, OR 97526
UID:e.1818.17697
SEQUENCE:3
DTSTAMP:20260425T192158Z
URL:https://business.grantspasschamber.org/events/details/cla-estate-planning-workshop-08-10-2016-17697
END:VEVENT

END:VCALENDAR
