BEGIN:VCALENDAR
VERSION:2.0
PRODID:-//ChamberMaster//Event Calendar 2.0//EN
METHOD:PUBLISH
X-PUBLISHED-TTL:P3D
REFRESH-INTERVAL:P3D
CALSCALE:GREGORIAN
BEGIN:VEVENT
DTSTART:20160326T170000Z
DTEND:20160326T230000Z
X-MICROSOFT-CDO-ALLDAYEVENT:FALSE
SUMMARY:Class: Follow Your Path - SoulCollage Workshop
DESCRIPTION:SoulCollage is a process for accessing your intuition. You will create some cards with deep personal meaning that will help you with life's questions and transitions. Includes lunch! Taught by Marybeth Webster.
X-ALT-DESC;FMTTYPE=text/html:<strong>SoulCollage is a process for accessing your intuition. You will create some cards with deep personal meaning that will help you with life&#39\;s questions and transitions. Includes lunch! Taught by Marybeth Webster.</strong>
LOCATION:Grants Pass Museum of Art 229 SW G St
UID:e.1818.16852
SEQUENCE:3
DTSTAMP:20260426T030527Z
URL:https://business.grantspasschamber.org/events/details/class-follow-your-path-soulcollage-workshop-03-26-2016-16852
END:VEVENT

END:VCALENDAR
