BEGIN:VCALENDAR
VERSION:2.0
PRODID:-//ChamberMaster//Event Calendar 2.0//EN
METHOD:PUBLISH
X-PUBLISHED-TTL:P3D
REFRESH-INTERVAL:P3D
CALSCALE:GREGORIAN
BEGIN:VEVENT
DTSTART:20160305T180000Z
DTEND:20160305T210000Z
X-MICROSOFT-CDO-ALLDAYEVENT:FALSE
SUMMARY:Class: Needlefelted Bunnies
DESCRIPTION:Hop into spring with this fun\, easy and creatively rewarding workshop. We will create whimsical and adorable 3-D bunnies as we explore the techniques of sculptural needlefelting. Workshop is open to adults and children age 9 and up. No experience necessary! All materials are provided.
X-ALT-DESC;FMTTYPE=text/html:<strong>Hop into spring with this fun\, easy and creatively rewarding workshop. We will create whimsical and adorable 3-D bunnies as we explore the techniques of sculptural needlefelting. Workshop is open to adults and children age 9 and up. No experience necessary! All materials are provided.</strong>
LOCATION:Grants Pass Museum of Art 229 SW G St
UID:e.1818.16848
SEQUENCE:3
DTSTAMP:20260426T030333Z
URL:https://business.grantspasschamber.org/events/details/class-needlefelted-bunnies-03-05-2016-16848
END:VEVENT

END:VCALENDAR
