BEGIN:VCALENDAR
VERSION:2.0
PRODID:-//ChamberMaster//Event Calendar 2.0//EN
METHOD:PUBLISH
X-PUBLISHED-TTL:P3D
REFRESH-INTERVAL:P3D
CALSCALE:GREGORIAN
BEGIN:VEVENT
DTSTART;VALUE=DATE:20160909
DTEND;VALUE=DATE:20160911
TRANSP:TRANSPARENT
X-MICROSOFT-CDO-ALLDAYEVENT:TRUE
SUMMARY:Class of 1966 ~ Reunion
DESCRIPTION:Dear Alumni\,\n\n\n\nUnbelievable! Fifty years ago we were graduating from GPHS with high hopes for our future\, and what our life would become. Now we are (hopefully) traveling\, enjoying our grandkids\, and probably taking medications for our aches and pains.\n\n\n\nTimes and circumstances have changed\, and now it's time to get together and reminisce about where life has taken us. Lots to talk about! Receding hairlines\, maybe a face lift or two\, and of course to brag about grandchildren!\n\n\n\nRegister Here:\n\nhttp://reuniongphs66.blogspot.com/p/registration-event-fees.html\n\n\n\nHere are a few things you need to do if you would like to come to the reunion:\n\n\n\n1. Please fill out the Registration Form below and choose which events you will be attending.\n\n2. Pay the fees for the events you will be attending using these methods:\n\n\n\n	Using the PayPal button (found beneath the registration form\, at the bottom of this page).\n	Mailing a check to: Class of 1966 Reunion Committee\, 1011 Moon Glo Dr. Grants Pass\, OR 97527
X-ALT-DESC;FMTTYPE=text/html:<br />\n<span style="color: rgb(34\, 34\, 34)\; font-family: Copse\; font-size: 17.6px\; font-style: normal\; font-variant-ligatures: normal\; font-variant-caps: normal\; font-weight: normal\; letter-spacing: normal\; line-height: 24.64px\; orphans: 2\; text-align: start\; text-indent: 0px\; text-transform: none\; white-space: normal\; widows: 2\; word-spacing: 0px\; -webkit-text-stroke-width: 0px\; display: inline !important\; float: none\; background-color: rgb(255\, 255\, 255)\;">Dear Alumni\,</span><br style="color: rgb(34\, 34\, 34)\; font-family: Copse\; font-size: 17.6px\; font-style: normal\; font-variant-ligatures: normal\; font-variant-caps: normal\; font-weight: normal\; letter-spacing: normal\; line-height: 24.64px\; orphans: 2\; text-align: start\; text-indent: 0px\; text-transform: none\; white-space: normal\; widows: 2\; word-spacing: 0px\; -webkit-text-stroke-width: 0px\; background-color: rgb(255\, 255\, 255)\;" />\n<br style="color: rgb(34\, 34\, 34)\; font-family: Copse\; font-size: 17.6px\; font-style: normal\; font-variant-ligatures: normal\; font-variant-caps: normal\; font-weight: normal\; letter-spacing: normal\; line-height: 24.64px\; orphans: 2\; text-align: start\; text-indent: 0px\; text-transform: none\; white-space: normal\; widows: 2\; word-spacing: 0px\; -webkit-text-stroke-width: 0px\; background-color: rgb(255\, 255\, 255)\;" />\n<strong><span style="color: rgb(34\, 34\, 34)\; font-family: Copse\; font-size: 17.6px\; font-style: normal\; font-variant-ligatures: normal\; font-variant-caps: normal\; font-weight: normal\; letter-spacing: normal\; line-height: 24.64px\; orphans: 2\; text-align: start\; text-indent: 0px\; text-transform: none\; white-space: normal\; widows: 2\; word-spacing: 0px\; -webkit-text-stroke-width: 0px\; display: inline !important\; float: none\; background-color: rgb(255\, 255\, 255)\;">Unbelievable! <u>Fifty years ago we were graduating from GPHS</u> <u>with high hopes for our future\, and what our life would</u> <u>become</u>. Now we are (hopefully) traveling\, enjoying our grandkids\, and probably taking medications for our aches and pains.</span><br style="color: rgb(34\, 34\, 34)\; font-family: Copse\; font-size: 17.6px\; font-style: normal\; font-variant-ligatures: normal\; font-variant-caps: normal\; font-weight: normal\; letter-spacing: normal\; line-height: 24.64px\; orphans: 2\; text-align: start\; text-indent: 0px\; text-transform: none\; white-space: normal\; widows: 2\; word-spacing: 0px\; -webkit-text-stroke-width: 0px\; background-color: rgb(255\, 255\, 255)\;" />\n<br style="color: rgb(34\, 34\, 34)\; font-family: Copse\; font-size: 17.6px\; font-style: normal\; font-variant-ligatures: normal\; font-variant-caps: normal\; font-weight: normal\; letter-spacing: normal\; line-height: 24.64px\; orphans: 2\; text-align: start\; text-indent: 0px\; text-transform: none\; white-space: normal\; widows: 2\; word-spacing: 0px\; -webkit-text-stroke-width: 0px\; background-color: rgb(255\, 255\, 255)\;" />\n<span style="color: rgb(34\, 34\, 34)\; font-family: Copse\; font-size: 17.6px\; font-style: normal\; font-variant-ligatures: normal\; font-variant-caps: normal\; font-weight: normal\; letter-spacing: normal\; line-height: 24.64px\; orphans: 2\; text-align: start\; text-indent: 0px\; text-transform: none\; white-space: normal\; widows: 2\; word-spacing: 0px\; -webkit-text-stroke-width: 0px\; display: inline !important\; float: none\; background-color: rgb(255\, 255\, 255)\;">Times and circumstances have changed\, and now it&#39\;s time to get together and reminisce about where life has taken us. Lots to talk about! Receding hairlines\, maybe a face lift or two\, and of course to brag about grandchildren!</span></strong><br />\n<br />\n<u><span style="color: rgb(34\, 34\, 34)\; font-family: Copse\; font-size: 17.6px\; font-style: normal\; font-variant-ligatures: normal\; font-variant-caps: normal\; font-weight: normal\; letter-spacing: normal\; line-height: 24.64px\; orphans: 2\; text-align: start\; text-indent: 0px\; text-transform: none\; white-space: normal\; widows: 2\; word-spacing: 0px\; -webkit-text-stroke-width: 0px\; display: inline !important\; float: none\; background-color: rgb(255\, 255\, 255)\;">Register Here:</span></u><br />\n<strong><span style="color: rgb(34\, 34\, 34)\; font-family: Copse\; font-size: 17.6px\; font-style: normal\; font-variant-ligatures: normal\; font-variant-caps: normal\; font-weight: normal\; letter-spacing: normal\; line-height: 24.64px\; orphans: 2\; text-align: start\; text-indent: 0px\; text-transform: none\; white-space: normal\; widows: 2\; word-spacing: 0px\; -webkit-text-stroke-width: 0px\; display: inline !important\; float: none\; background-color: rgb(255\, 255\, 255)\;"><a href="http://reuniongphs66.blogspot.com/p/registration-event-fees.html">http://reuniongphs66.blogspot.com/p/registration-event-fees.html</a></span></strong><br />\n<br />\n<b style="color: rgb(34\, 34\, 34)\; font-family: Copse\; font-size: 17.6px\; font-style: normal\; font-variant-ligatures: normal\; font-variant-caps: normal\; letter-spacing: normal\; line-height: 24.64px\; orphans: 2\; text-align: start\; text-indent: 0px\; text-transform: none\; white-space: normal\; widows: 2\; word-spacing: 0px\; -webkit-text-stroke-width: 0px\; background-color: rgb(255\, 255\, 255)\;">Here are a few things you need to do if you would like to come to the reunion:</b><br style="color: rgb(34\, 34\, 34)\; font-family: Copse\; font-size: 17.6px\; font-style: normal\; font-variant-ligatures: normal\; font-variant-caps: normal\; font-weight: normal\; letter-spacing: normal\; line-height: 24.64px\; orphans: 2\; text-align: start\; text-indent: 0px\; text-transform: none\; white-space: normal\; widows: 2\; word-spacing: 0px\; -webkit-text-stroke-width: 0px\; background-color: rgb(255\, 255\, 255)\;" />\n<br style="color: rgb(34\, 34\, 34)\; font-family: Copse\; font-size: 17.6px\; font-style: normal\; font-variant-ligatures: normal\; font-variant-caps: normal\; font-weight: normal\; letter-spacing: normal\; line-height: 24.64px\; orphans: 2\; text-align: start\; text-indent: 0px\; text-transform: none\; white-space: normal\; widows: 2\; word-spacing: 0px\; -webkit-text-stroke-width: 0px\; background-color: rgb(255\, 255\, 255)\;" />\n<span style="color: rgb(34\, 34\, 34)\; font-family: Copse\; font-size: 17.6px\; font-style: normal\; font-variant-ligatures: normal\; font-variant-caps: normal\; font-weight: normal\; letter-spacing: normal\; line-height: 24.64px\; orphans: 2\; text-align: start\; text-indent: 0px\; text-transform: none\; white-space: normal\; widows: 2\; word-spacing: 0px\; -webkit-text-stroke-width: 0px\; display: inline !important\; float: none\; background-color: rgb(255\, 255\, 255)\;">1. Please fill out the Registration Form below&nbsp\;and choose which events you will be attending.</span><br style="color: rgb(34\, 34\, 34)\; font-family: Copse\; font-size: 17.6px\; font-style: normal\; font-variant-ligatures: normal\; font-variant-caps: normal\; font-weight: normal\; letter-spacing: normal\; line-height: 24.64px\; orphans: 2\; text-align: start\; text-indent: 0px\; text-transform: none\; white-space: normal\; widows: 2\; word-spacing: 0px\; -webkit-text-stroke-width: 0px\; background-color: rgb(255\, 255\, 255)\;" />\n<span style="color: rgb(34\, 34\, 34)\; font-family: Copse\; font-size: 17.6px\; font-style: normal\; font-variant-ligatures: normal\; font-variant-caps: normal\; font-weight: normal\; letter-spacing: normal\; line-height: 24.64px\; orphans: 2\; text-align: start\; text-indent: 0px\; text-transform: none\; white-space: normal\; widows: 2\; word-spacing: 0px\; -webkit-text-stroke-width: 0px\; display: inline !important\; float: none\; background-color: rgb(255\, 255\, 255)\;">2. Pay the fees for the events you will be attending using these methods:</span>\n\n<div style="color: rgb(34\, 34\, 34)\; font-family: Copse\; font-size: 17.6px\; font-style: normal\; font-variant-ligatures: normal\; font-variant-caps: normal\; font-weight: normal\; letter-spacing: normal\; line-height: 24.64px\; orphans: 2\; text-align: start\; text-indent: 0px\; text-transform: none\; white-space: normal\; widows: 2\; word-spacing: 0px\; -webkit-text-stroke-width: 0px\; background-color: rgb(255\, 255\, 255)\;">\n<ul style="padding: 0px 2.5em\; margin: 0.5em 0px\; line-height: 1.4\;">\n	<li style="padding: 0px\; margin: 0px 0px 0.25em\; text-indent: 0px\;">Using the PayPal button (found beneath the registration form\, at the bottom of this page).</li>\n	<li style="padding: 0px\; margin: 0px 0px 0.25em\; text-indent: 0px\;">Mailing a check to: Class of 1966 Reunion Committee\, 1011 Moon Glo Dr. Grants Pass\, OR 97527</li>\n</ul>\n</div>\n
LOCATION:Friday night welcome party will be held at Mary and John Groves home: 1530 Jenkins Ave. (Redwood area) from 4PM until ?? This will be an informal get together with pizza\, snacks\, water\, etc. Saturday evening will be a casual dinner at the Grants Pass Golf Course. Cocktail hour is from 6-7PM\, with dinner following. This dinner will be a buffet\, barbecue chicken and flat iron steak with side dishes and dessert provided. Dress is summer casual. No host bar.
UID:e.1818.17763
SEQUENCE:3
DTSTAMP:20260425T180953Z
URL:https://business.grantspasschamber.org/events/details/class-of-1966-reunion-17763
END:VEVENT

END:VCALENDAR
