BEGIN:VCALENDAR
VERSION:2.0
PRODID:-//ChamberMaster//Event Calendar 2.0//EN
METHOD:PUBLISH
X-PUBLISHED-TTL:P3D
REFRESH-INTERVAL:P3D
CALSCALE:GREGORIAN
BEGIN:VEVENT
DTSTART:20160305T210000Z
DTEND:20160306T000000Z
X-MICROSOFT-CDO-ALLDAYEVENT:FALSE
SUMMARY:Class: Polyclay Brooch
DESCRIPTION:Make your very own brooch! Learn how to make realistic looking berries\, leaves and flowers and turn them into amazing jewelry. Beginners welcome! Ages 14+. Limited to six students so please register now! All materials supplied. Taught by Anna Nazimko from Russia
X-ALT-DESC;FMTTYPE=text/html:<strong>Make your very own brooch! Learn how to make realistic looking berries\, leaves and flowers and turn them into amazing jewelry. Beginners welcome! Ages 14+. Limited to six students so please register now! All materials supplied. Taught by Anna Nazimko from Russia</strong>
LOCATION:Grants Pass Museum of Art 229 SW G St
UID:e.1818.16851
SEQUENCE:3
DTSTAMP:20260426T030327Z
URL:https://business.grantspasschamber.org/events/details/class-polyclay-brooch-03-05-2016-16851
END:VEVENT

END:VCALENDAR
