BEGIN:VCALENDAR
VERSION:2.0
PRODID:-//ChamberMaster//Event Calendar 2.0//EN
METHOD:PUBLISH
X-PUBLISHED-TTL:P3D
REFRESH-INTERVAL:P3D
CALSCALE:GREGORIAN
BEGIN:VEVENT
DTSTART:20160326T010000Z
DTEND:20160326T040000Z
X-MICROSOFT-CDO-ALLDAYEVENT:FALSE
SUMMARY:Class: Zentangle
DESCRIPTION:Zentangle is a creative form of doodling (with a purpose). It is meditative\, fun\, and there are no mistakes. Food\, wine and all material included. Taught by Cindy Mac. Our first class was so popular that we're back for more! Come join the fun!
X-ALT-DESC;FMTTYPE=text/html:<strong>Zentangle is a creative form of doodling (with a purpose). It is meditative\, fun\, and there are no mistakes. Food\, wine and all material included. Taught by Cindy Mac. Our first class was so popular that we&#39\;re back for more! Come join the fun!</strong>
LOCATION:Grants Pass Museum of Art 229 SW G St
UID:e.1818.16853
SEQUENCE:3
DTSTAMP:20260426T030230Z
URL:https://business.grantspasschamber.org/events/details/class-zentangle-03-25-2016-16853
END:VEVENT

END:VCALENDAR
