BEGIN:VCALENDAR
VERSION:2.0
PRODID:-//ChamberMaster//Event Calendar 2.0//EN
METHOD:PUBLISH
X-PUBLISHED-TTL:P3D
REFRESH-INTERVAL:P3D
CALSCALE:GREGORIAN
BEGIN:VEVENT
DTSTART:20180609T180000Z
DTEND:20180609T220000Z
X-MICROSOFT-CDO-ALLDAYEVENT:FALSE
SUMMARY:Climate City Beer Mile Run
DESCRIPTION:Running is more fun with beer. We can't think of anything that goes together as well as running and beer\, so Climate City Brewing Co will be hosting its inaugural Beer Mile event. No longer do you have to sneak into a track at night with a few buddies\, hoping not to get caught\, and chugging cheap beer\n\nHow Does it Work?\n\nDrink\, Run\, Repeat. It is simple: drink 1 12 oz cup of beer\, run .25 miles and repeat 4 times. The fastest Male and Female Beer Mile runner wins a membership to the Climate City Mug Club and bragging rights for an entire year. Costumes are HIGHLY encouraged. After the race we'll have music\, cornhole\, and giant jenga on our awesome patio. Of course the Brewery will be open for those who prefer to sit and hang out.\n\nRun Responsibly.\n\nYou must be 21 years of age or older to participate in the Beer Mile Run. Identification will be required when you check in on race day. We will not refund entrants who are under the age of 21 that show up to race. We also require that you identify a designated driver for your ride home. Let's all stay safe out there!
X-ALT-DESC;FMTTYPE=text/html:<p style="box-sizing: border-box\; margin: 0px 0px 9px\; color: rgb(51\, 51\, 51)\; font-family: &quot\;Helvetica Neue&quot\;\, Helvetica\, Arial\, sans-serif\; font-size: 14.3px\; background-color: rgb(238\, 238\, 238)\;">Running is more fun with beer. We can&rsquo\;t think of anything that goes together as well as running and beer\, so Climate City Brewing Co will be hosting its inaugural Beer Mile event. No longer do you have to sneak into a track at night with a few buddies\, hoping not to get caught\, and chugging cheap beer</p>\n\n<p style="box-sizing: border-box\; margin: 0px 0px 9px\; color: rgb(51\, 51\, 51)\; font-family: &quot\;Helvetica Neue&quot\;\, Helvetica\, Arial\, sans-serif\; font-size: 14.3px\; background-color: rgb(238\, 238\, 238)\;">How Does it Work?</p>\n\n<p style="box-sizing: border-box\; margin: 0px 0px 9px\; color: rgb(51\, 51\, 51)\; font-family: &quot\;Helvetica Neue&quot\;\, Helvetica\, Arial\, sans-serif\; font-size: 14.3px\; background-color: rgb(238\, 238\, 238)\;">Drink\, Run\, Repeat. It is simple: drink 1 12 oz cup of beer\, run .25 miles and repeat 4 times. The fastest Male and Female Beer Mile runner wins a membership to the Climate City Mug Club and bragging rights for an entire year. Costumes are HIGHLY encouraged. After the race we&rsquo\;ll have music\, cornhole\, and giant jenga on our awesome patio. Of course the Brewery will be open for those who prefer to sit and hang out.</p>\n\n<p style="box-sizing: border-box\; margin: 0px 0px 9px\; color: rgb(51\, 51\, 51)\; font-family: &quot\;Helvetica Neue&quot\;\, Helvetica\, Arial\, sans-serif\; font-size: 14.3px\; background-color: rgb(238\, 238\, 238)\;">Run Responsibly.</p>\n\n<p style="box-sizing: border-box\; margin: 0px 0px 9px\; color: rgb(51\, 51\, 51)\; font-family: &quot\;Helvetica Neue&quot\;\, Helvetica\, Arial\, sans-serif\; font-size: 14.3px\; background-color: rgb(238\, 238\, 238)\;">You must be 21 years of age or older to participate in the Beer Mile Run. Identification will be required when you check in on race day. We will not refund entrants who are under the age of 21 that show up to race. We also require that you identify a designated driver for your ride home. Let&rsquo\;s all stay safe out there!</p>\n
LOCATION:Climate City Brewing Company 509 SW G St Grants Pass\, OR 97526 USA
UID:e.1818.29152
SEQUENCE:3
DTSTAMP:20260424T012311Z
URL:https://business.grantspasschamber.org/events/details/climate-city-beer-mile-run-29152
END:VEVENT

END:VCALENDAR
