BEGIN:VCALENDAR
VERSION:2.0
PRODID:-//ChamberMaster//Event Calendar 2.0//EN
METHOD:PUBLISH
X-PUBLISHED-TTL:P3D
REFRESH-INTERVAL:P3D
CALSCALE:GREGORIAN
BEGIN:VEVENT
DTSTART:20180407T160000Z
DTEND:20180407T210000Z
X-MICROSOFT-CDO-ALLDAYEVENT:FALSE
SUMMARY:Clothing Fair Sale ~ Fundraiser for Women's Crisis Support Team
DESCRIPTION:Shoes\, Purses\, Outerwear & Formal wear\n\nWomen's and Men's Clothing & Accessories\n\n\n\n(Donations benefit WCST)  Drop Off accepted until ???
X-ALT-DESC;FMTTYPE=text/html:<strong>Shoes\, Purses\, Outerwear &amp\; Formal wear<br />\nWomen&#39\;s and Men&#39\;s Clothing &amp\; Accessories<br />\n<br />\n(Donations benefit WCST)&nbsp\; Drop Off accepted until ???</strong>
LOCATION:Evergreen's Bear Hotel 2101 Spalding Avenue
UID:e.1818.25121
SEQUENCE:3
DTSTAMP:20260424T051145Z
URL:https://business.grantspasschamber.org/events/details/clothing-fair-sale-fundraiser-for-women-s-crisis-support-team-25121
END:VEVENT

END:VCALENDAR
