BEGIN:VCALENDAR
VERSION:2.0
PRODID:-//ChamberMaster//Event Calendar 2.0//EN
METHOD:PUBLISH
X-PUBLISHED-TTL:P3D
REFRESH-INTERVAL:P3D
CALSCALE:GREGORIAN
BEGIN:VEVENT
DTSTART;VALUE=DATE:20161015
DTEND;VALUE=DATE:20161016
TRANSP:TRANSPARENT
X-MICROSOFT-CDO-ALLDAYEVENT:TRUE
SUMMARY:Clothing Fair Sale ~ Fundraiser Womens Crisis
DESCRIPTION:Shoes\, Purses\, Outerwear & Formal wear\n\nWomen's and Men's Clothing & Accessories\n\n\n\n(Donations benefit WCST)  Drop Off accepted until Friday October 14th
X-ALT-DESC;FMTTYPE=text/html:<strong>Shoes\, Purses\, Outerwear &amp\; Formal wear<br />\nWomen&#39\;s and Men&#39\;s Clothing &amp\; Accessories<br />\n<br />\n(Donations benefit WCST)&nbsp\; Drop Off accepted until Friday October 14th</strong>
LOCATION:Evergreen's Bear Hotel 2101 Spalding Avenue
UID:e.1818.17894
SEQUENCE:3
DTSTAMP:20260425T163442Z
URL:https://business.grantspasschamber.org/events/details/clothing-fair-sale-fundraiser-womens-crisis-17894
END:VEVENT

END:VCALENDAR
