BEGIN:VCALENDAR
VERSION:2.0
PRODID:-//ChamberMaster//Event Calendar 2.0//EN
METHOD:PUBLISH
X-PUBLISHED-TTL:P3D
REFRESH-INTERVAL:P3D
CALSCALE:GREGORIAN
BEGIN:VEVENT
DTSTART:20160519T153000Z
DTEND:20160519T183000Z
X-MICROSOFT-CDO-ALLDAYEVENT:FALSE
SUMMARY:Coaching Others to Reach Strategic Goals providing 3 HRCI Credits
DESCRIPTION:Often seen only as a tool for disciplinary actions\, coaching tactics are actually the "delivery channel" through which all staff connections and development should take place. \n\n\n\nThis session will cover the crucial steps required to guide others to be more accountable\, connected and focused on goals and outcomes.\n\n\n	Why coaching is a "must"\n	The four-quadrants of coaching\n	Defining collaborations SMART goals\n	Developing action/coaching plans\n	Measuring for results
X-ALT-DESC;FMTTYPE=text/html:<strong>Often seen only as a tool for disciplinary actions\, coaching tactics are actually the &quot\;delivery channel&quot\; through which all staff connections and development should take place.&nbsp\;<br />\n<br />\nThis session will cover the crucial steps required to guide others to be more accountable\, connected and focused on goals and outcomes.</strong>\n\n<ul>\n	<li><strong>Why coaching is a &quot\;must&quot\;</strong></li>\n	<li><strong>The four-quadrants of coaching</strong></li>\n	<li><strong>Defining collaborations SMART goals</strong></li>\n	<li><strong>Developing action/coaching plans</strong></li>\n	<li><strong>Measuring for results</strong></li>\n</ul>\n
LOCATION:Worksource Oregon\, Josephine Room\, 1569 NE F St\, Grants Pass\, OR
UID:e.1818.17459
SEQUENCE:3
DTSTAMP:20260426T000330Z
URL:https://business.grantspasschamber.org/events/details/coaching-others-to-reach-strategic-goals-providing-3-hrci-credits-05-19-2016-17459
END:VEVENT

END:VCALENDAR
