BEGIN:VCALENDAR
VERSION:2.0
PRODID:-//ChamberMaster//Event Calendar 2.0//EN
METHOD:PUBLISH
X-PUBLISHED-TTL:P3D
REFRESH-INTERVAL:P3D
CALSCALE:GREGORIAN
BEGIN:VEVENT
DTSTART:20160507T170000Z
DTEND:20160507T230000Z
X-MICROSOFT-CDO-ALLDAYEVENT:FALSE
SUMMARY:Community Day ~ Free Cave Tours and More
DESCRIPTION:Oregon Caves National Monument and Preserve will host its annual Community Open House.\n\n\n\n Free tours of the cave will be offered from 10a-4pm.  Great Cats Work Park will bring feline ambassadors.\n\n\n\nKids will enjoy a junior activity station.
X-ALT-DESC;FMTTYPE=text/html:<strong>Oregon Caves National Monument and Preserve will host its annual Community Open House.<br />\n<br />\n&nbsp\;Free tours of the cave will be offered from 10a-4pm.&nbsp\; Great Cats Work Park will bring feline ambassadors.<br />\n<br />\nKids will enjoy a junior activity station.</strong>
LOCATION:Oregon Caves National Monument & Preserve 19000 Caves Highway Cave Junction
UID:e.1818.17464
SEQUENCE:3
DTSTAMP:20260426T000249Z
URL:https://business.grantspasschamber.org/events/details/community-day-free-cave-tours-and-more-05-07-2016-17464
END:VEVENT

END:VCALENDAR
