BEGIN:VCALENDAR
VERSION:2.0
PRODID:-//ChamberMaster//Event Calendar 2.0//EN
METHOD:PUBLISH
X-PUBLISHED-TTL:P3D
REFRESH-INTERVAL:P3D
CALSCALE:GREGORIAN
BEGIN:VEVENT
DTSTART;VALUE=DATE:20160712
DTEND;VALUE=DATE:20160713
TRANSP:TRANSPARENT
X-MICROSOFT-CDO-ALLDAYEVENT:TRUE
SUMMARY:Community Forum ~ Water Distribution Master Plan
DESCRIPTION:A Community Forum will be held July 12th from 4p - 6p in the City Council Chambers.\n\n\n\nTo discuss Council's consideration and adoption of the Water Distribution\, Wastewater Collection and Stormwater Master Plans.\n\n\n\nDiscussion may include adoption process\, implications of adoption\, associated costs with plan implantation and funding mechanisms.
X-ALT-DESC;FMTTYPE=text/html:<strong>A Community Forum will be held July 12th from 4p - 6p in the City Council Chambers.</strong><br />\n<br />\n<strong>To discuss Council&#39\;s consideration and adoption of the Water Distribution\, Wastewater Collection and Stormwater Master Plans.<br />\n<br />\nDiscussion may include adoption process\, implications of adoption\, associated costs with plan implantation and funding mechanisms.</strong>
LOCATION:City of Grants Pass City Council Chambers 101 NW A Street
UID:e.1818.17635
SEQUENCE:3
DTSTAMP:20260425T205802Z
URL:https://business.grantspasschamber.org/events/details/community-forum-water-distribution-master-plan-07-12-2016-17635
END:VEVENT

END:VCALENDAR
