BEGIN:VCALENDAR
VERSION:2.0
PRODID:-//ChamberMaster//Event Calendar 2.0//EN
METHOD:PUBLISH
X-PUBLISHED-TTL:P3D
REFRESH-INTERVAL:P3D
CALSCALE:GREGORIAN
BEGIN:VEVENT
DTSTART:20160716T210000Z
DTEND:20160716T230000Z
X-MICROSOFT-CDO-ALLDAYEVENT:FALSE
SUMMARY:Community Involvement Faire
DESCRIPTION:A non profit event for organizations around JoCo to come together in an open house and speak to the public about what their organizations do\, and how the public can get involved with volunteer work.
X-ALT-DESC;FMTTYPE=text/html:<strong>A non profit event for organizations around JoCo to come together in an open house and speak to the public about what their organizations do\, and how the public can get involved with volunteer work.</strong>
LOCATION:Club Northwest
UID:e.1818.17624
SEQUENCE:3
DTSTAMP:20260425T210106Z
URL:https://business.grantspasschamber.org/events/details/community-involvement-faire-07-16-2016-17624
END:VEVENT

END:VCALENDAR
