BEGIN:VCALENDAR
VERSION:2.0
PRODID:-//ChamberMaster//Event Calendar 2.0//EN
METHOD:PUBLISH
X-PUBLISHED-TTL:P3D
REFRESH-INTERVAL:P3D
CALSCALE:GREGORIAN
BEGIN:VEVENT
DTSTART;VALUE=DATE:20160310
DTEND;VALUE=DATE:20160311
TRANSP:TRANSPARENT
X-MICROSOFT-CDO-ALLDAYEVENT:TRUE
SUMMARY:Community Kick-Off ~ Hearts with a Mission
DESCRIPTION:Join us to learn more about Josephine County's NEW SHELTER for Homeless & at-risk youth.\n\n\n\nOpening Spring 2016
X-ALT-DESC;FMTTYPE=text/html:<strong>Join us to learn more about Josephine County&#39\;s NEW SHELTER for <u>Homeless &amp\; at-risk youth.</u><br />\n<br />\n<u><em><span style="font-size:14px\;">Opening Spring 2016</span></em></u></strong>
LOCATION:GPHS PAC 725 NE Dean Drive
UID:e.1818.15836
SEQUENCE:3
DTSTAMP:20260426T030722Z
URL:https://business.grantspasschamber.org/events/details/community-kick-off-hearts-with-a-mission-03-10-2016-15836
END:VEVENT

END:VCALENDAR
